BEGIN:VCALENDAR
VERSION:2.0
PRODID:-//RV Rhede - ECPv6.15.20//NONSGML v1.0//EN
CALSCALE:GREGORIAN
METHOD:PUBLISH
X-WR-CALNAME:RV Rhede
X-ORIGINAL-URL:https://www.rv-rhede.de
X-WR-CALDESC:Veranstaltungen für RV Rhede
REFRESH-INTERVAL;VALUE=DURATION:PT1H
X-Robots-Tag:noindex
X-PUBLISHED-TTL:PT1H
BEGIN:VTIMEZONE
TZID:Europe/Berlin
BEGIN:DAYLIGHT
TZOFFSETFROM:+0100
TZOFFSETTO:+0200
TZNAME:CEST
DTSTART:20250330T010000
END:DAYLIGHT
BEGIN:STANDARD
TZOFFSETFROM:+0200
TZOFFSETTO:+0100
TZNAME:CET
DTSTART:20251026T010000
END:STANDARD
BEGIN:DAYLIGHT
TZOFFSETFROM:+0100
TZOFFSETTO:+0200
TZNAME:CEST
DTSTART:20260329T010000
END:DAYLIGHT
BEGIN:STANDARD
TZOFFSETFROM:+0200
TZOFFSETTO:+0100
TZNAME:CET
DTSTART:20261025T010000
END:STANDARD
BEGIN:DAYLIGHT
TZOFFSETFROM:+0100
TZOFFSETTO:+0200
TZNAME:CEST
DTSTART:20270328T010000
END:DAYLIGHT
BEGIN:STANDARD
TZOFFSETFROM:+0200
TZOFFSETTO:+0100
TZNAME:CET
DTSTART:20271031T010000
END:STANDARD
END:VTIMEZONE
BEGIN:VEVENT
DTSTART;TZID=Europe/Berlin:20260208T000000
DTEND;TZID=Europe/Berlin:20260208T235959
DTSTAMP:20260423T113654
CREATED:20250911T063927Z
LAST-MODIFIED:20250911T063928Z
UID:5060-1770508800-1770595199@www.rv-rhede.de
SUMMARY:Winterwanderung mit Grillen
DESCRIPTION:
URL:https://www.rv-rhede.de/veranstaltung/winterwanderung-mit-grillen
END:VEVENT
BEGIN:VEVENT
DTSTART;TZID=Europe/Berlin:20260208T000000
DTEND;TZID=Europe/Berlin:20260208T235959
DTSTAMP:20260423T113654
CREATED:20260113T110843Z
LAST-MODIFIED:20260113T111231Z
UID:5300-1770508800-1770595199@www.rv-rhede.de
SUMMARY:Doppellongenlehrgang bei Tanja Dienstbier
DESCRIPTION:Der Kurs ist für alle die mit Pferden zu tun haben: Reiter\, Trainer\, Voltigierer und Fahrer!Kosten: Eine Unterrichtseinheit ist 45 MinutenAnlagennutzer: 40 €Vereinsmitglieder: 45 €Vereinsfremde: 55 €Passive Teilnehmer: 10 € \n\n\n\nAnmeldung unter: lehrgang@rv-rhede.deAnmeldeschluss: 14.01.2026
URL:https://www.rv-rhede.de/veranstaltung/doppellongenlehrgang-bei-tanja-dienstbier
ATTACH;FMTTYPE=image/jpeg:https://www.rv-rhede.de/wp-content/uploads/2026/01/Doppellonge_022026.jpeg
END:VEVENT
END:VCALENDAR