BEGIN:VCALENDAR
VERSION:2.0
PRODID:-//RV Rhede - ECPv6.15.20//NONSGML v1.0//EN
CALSCALE:GREGORIAN
METHOD:PUBLISH
X-ORIGINAL-URL:https://www.rv-rhede.de
X-WR-CALDESC:Veranstaltungen für RV Rhede
REFRESH-INTERVAL;VALUE=DURATION:PT1H
X-Robots-Tag:noindex
X-PUBLISHED-TTL:PT1H
BEGIN:VTIMEZONE
TZID:Europe/Berlin
BEGIN:DAYLIGHT
TZOFFSETFROM:+0100
TZOFFSETTO:+0200
TZNAME:CEST
DTSTART:20250330T010000
END:DAYLIGHT
BEGIN:STANDARD
TZOFFSETFROM:+0200
TZOFFSETTO:+0100
TZNAME:CET
DTSTART:20251026T010000
END:STANDARD
BEGIN:DAYLIGHT
TZOFFSETFROM:+0100
TZOFFSETTO:+0200
TZNAME:CEST
DTSTART:20260329T010000
END:DAYLIGHT
BEGIN:STANDARD
TZOFFSETFROM:+0200
TZOFFSETTO:+0100
TZNAME:CET
DTSTART:20261025T010000
END:STANDARD
BEGIN:DAYLIGHT
TZOFFSETFROM:+0100
TZOFFSETTO:+0200
TZNAME:CEST
DTSTART:20270328T010000
END:DAYLIGHT
BEGIN:STANDARD
TZOFFSETFROM:+0200
TZOFFSETTO:+0100
TZNAME:CET
DTSTART:20271031T010000
END:STANDARD
END:VTIMEZONE
BEGIN:VEVENT
DTSTART;TZID=Europe/Berlin:20260315T110000
DTEND;TZID=Europe/Berlin:20260315T133000
DTSTAMP:20260423T095804
CREATED:20260301T192649Z
LAST-MODIFIED:20260301T193653Z
UID:5381-1773572400-1773581400@www.rv-rhede.de
SUMMARY:Jahreshauptversammlung
DESCRIPTION:Einladung zur Jahreshauptversammlung am 15.03.2026 um 11 UhrIn der Reithalle des Reitervereins\, Hoymersweg 1\, 46414 Rhede \n\n\n\nTagesordnungspunkteI. Formalia \n\n\n\n\nVerschiedenes und Aussprache\n\n\n\nBegrüßung und Eröffnung der Mitgliederversammlung\n\n\n\nFeststellung der ordnungsgemäßen Einberufung und der\n\n\n\nBeschlussfähigkeit\n\n\n\nGedenken der Verstorbenen\n\n\n\nGenehmigung des Protokolls der letzten Mitgliederversammlung\n\n\n\n\nII. Berichte \n\n\n\n\nBericht des Vorstands\n\n\n\nBerichte der Ressorts / Ausschüsse\n\n\n\nKassenbericht und Vorstellung des Jahresabschlusses\n\n\n\nBericht der Kassenprüfer\n\n\n\n\nIII. Beschlussfassungen \n\n\n\n\nEntlastung des Vorstands\n\n\n\nWahlen\n\n\n\n\nIV. Sonstiges \n\n\n\n\nEhrungen\n\n\n\nVorstellung geplanter Projekte und Maßnahmen\n\n\n\n\n\nDownload Einladung
URL:https://www.rv-rhede.de/veranstaltung/jahreshauptversammlung
ATTACH;FMTTYPE=image/jpeg:https://www.rv-rhede.de/wp-content/uploads/2021/07/RV_Logo-Header.jpg
END:VEVENT
END:VCALENDAR