BEGIN:VCALENDAR
VERSION:2.0
PRODID:-//RV Rhede - ECPv6.15.20//NONSGML v1.0//EN
CALSCALE:GREGORIAN
METHOD:PUBLISH
X-WR-CALNAME:RV Rhede
X-ORIGINAL-URL:https://www.rv-rhede.de
X-WR-CALDESC:Veranstaltungen für RV Rhede
REFRESH-INTERVAL;VALUE=DURATION:PT1H
X-Robots-Tag:noindex
X-PUBLISHED-TTL:PT1H
BEGIN:VTIMEZONE
TZID:Europe/Berlin
BEGIN:DAYLIGHT
TZOFFSETFROM:+0100
TZOFFSETTO:+0200
TZNAME:CEST
DTSTART:20250330T010000
END:DAYLIGHT
BEGIN:STANDARD
TZOFFSETFROM:+0200
TZOFFSETTO:+0100
TZNAME:CET
DTSTART:20251026T010000
END:STANDARD
BEGIN:DAYLIGHT
TZOFFSETFROM:+0100
TZOFFSETTO:+0200
TZNAME:CEST
DTSTART:20260329T010000
END:DAYLIGHT
BEGIN:STANDARD
TZOFFSETFROM:+0200
TZOFFSETTO:+0100
TZNAME:CET
DTSTART:20261025T010000
END:STANDARD
BEGIN:DAYLIGHT
TZOFFSETFROM:+0100
TZOFFSETTO:+0200
TZNAME:CEST
DTSTART:20270328T010000
END:DAYLIGHT
BEGIN:STANDARD
TZOFFSETFROM:+0200
TZOFFSETTO:+0100
TZNAME:CET
DTSTART:20271031T010000
END:STANDARD
END:VTIMEZONE
BEGIN:VEVENT
DTSTART;TZID=Europe/Berlin:20260321T000000
DTEND;TZID=Europe/Berlin:20260322T235959
DTSTAMP:20260423T094702
CREATED:20250911T064144Z
LAST-MODIFIED:20260316T112452Z
UID:5066-1774051200-1774223999@www.rv-rhede.de
SUMMARY:Voltigier Turnier bis Klasse S
DESCRIPTION:Anbei findet ihr die Zeiteinteilung für unser Voltigierturnier zum Download \n\n\n\n\nAktuelle Zeiteinteilung
URL:https://www.rv-rhede.de/veranstaltung/voltigier-turnier-bis-klasse-s
ATTACH;FMTTYPE=image/png:https://www.rv-rhede.de/wp-content/uploads/2026/03/Screenshot-2026-03-11-201035.png
END:VEVENT
END:VCALENDAR