BEGIN:VCALENDAR
VERSION:2.0
PRODID:-//RV Rhede - ECPv6.15.20//NONSGML v1.0//EN
CALSCALE:GREGORIAN
METHOD:PUBLISH
X-WR-CALNAME:RV Rhede
X-ORIGINAL-URL:https://www.rv-rhede.de
X-WR-CALDESC:Veranstaltungen für RV Rhede
REFRESH-INTERVAL;VALUE=DURATION:PT1H
X-Robots-Tag:noindex
X-PUBLISHED-TTL:PT1H
BEGIN:VTIMEZONE
TZID:Europe/Berlin
BEGIN:DAYLIGHT
TZOFFSETFROM:+0100
TZOFFSETTO:+0200
TZNAME:CEST
DTSTART:20240331T010000
END:DAYLIGHT
BEGIN:STANDARD
TZOFFSETFROM:+0200
TZOFFSETTO:+0100
TZNAME:CET
DTSTART:20241027T010000
END:STANDARD
BEGIN:DAYLIGHT
TZOFFSETFROM:+0100
TZOFFSETTO:+0200
TZNAME:CEST
DTSTART:20250330T010000
END:DAYLIGHT
BEGIN:STANDARD
TZOFFSETFROM:+0200
TZOFFSETTO:+0100
TZNAME:CET
DTSTART:20251026T010000
END:STANDARD
BEGIN:DAYLIGHT
TZOFFSETFROM:+0100
TZOFFSETTO:+0200
TZNAME:CEST
DTSTART:20260329T010000
END:DAYLIGHT
BEGIN:STANDARD
TZOFFSETFROM:+0200
TZOFFSETTO:+0100
TZNAME:CET
DTSTART:20261025T010000
END:STANDARD
END:VTIMEZONE
BEGIN:VEVENT
DTSTART;TZID=Europe/Berlin:20251204T000000
DTEND;TZID=Europe/Berlin:20251207T235959
DTSTAMP:20260425T141326
CREATED:20250911T061947Z
LAST-MODIFIED:20250911T061949Z
UID:5048-1764806400-1765151999@www.rv-rhede.de
SUMMARY:Weihnachtsmarkt in Rhede
DESCRIPTION:
URL:https://www.rv-rhede.de/veranstaltung/weihnachtsmarkt-in-rhede
END:VEVENT
BEGIN:VEVENT
DTSTART;TZID=Europe/Berlin:20251212T140000
DTEND;TZID=Europe/Berlin:20251212T160000
DTSTAMP:20260425T141326
CREATED:20250911T063601Z
LAST-MODIFIED:20250911T063602Z
UID:5052-1765548000-1765555200@www.rv-rhede.de
SUMMARY:Pony Messtermin
DESCRIPTION:
URL:https://www.rv-rhede.de/veranstaltung/pony-messtermin
END:VEVENT
BEGIN:VEVENT
DTSTART;TZID=Europe/Berlin:20251213T000000
DTEND;TZID=Europe/Berlin:20251214T235959
DTSTAMP:20260425T141326
CREATED:20250911T063744Z
LAST-MODIFIED:20251015T120039Z
UID:5056-1765584000-1765756799@www.rv-rhede.de
SUMMARY:Dressurlehrgang bei Bodewigs
DESCRIPTION:🐴 Dressurlehrgang mit Bodewig Dressage am RV Rhede \n\n\n\nWEIL WIR LIEBEN\, WAS WIR TUN \n\n\n\nErlebe exklusives Dressurtraining auf höchstem Niveau mit Corinna und Robinson Bodewig\, den ehemaligen Bereitern von Mannschaftsolympiasiegerin Dorothee Schneider.In unserem zweitägigen Lehrgang profitierst Du von der langjährigen Erfahrung der beiden Ausbilder in der Arbeit mit Dressurpferden und Reitern – individuell\, pferdegerecht und praxisnah. \n\n\n\nDer Lehrgang richtet sich an Reiterinnen und Reiter aller Altersklassen und Ausbildungsstände von A bis Grand Prix. Auch Jungpferde sind herzlich willkommen! \n\n\n\n\n\n\n\n📅 Termine\n\n\n\n\n15. & 16. November 2025\n\n\n\n13. & 14. Dezember 2025\n\n\n\n\n📍 Ort\n\n\n\nReitverein Rhede e.V. \n\n\n\n💶 Kosten\n\n\n\n\nLehrgangsgebühr: 170\,00 €\n\n\n\nAnlagennutzung: 30\,00 €\n\n\n\n\n🐎 Inhalte & Schwerpunkte\n\n\n\n\nZwei Tage Einzelunterricht à 45 Minuten\n\n\n\nBegleitung in Lösungs-\, Arbeits- und Entspannungsphase\n\n\n\nIndividuelle Trainingsansätze für Reiter und Pferd\n\n\n\nKonkrete Tipps zur Verbesserung von Kommunikation\, Harmonie und Technik\n\n\n\nNachhaltige Weiterentwicklung von Reiter und Pferd auf höchstem Niveau\n\n\n\n\n\n\n\n\n📞 Anmeldung\n\n\n\nDa die Teilnehmerzahl begrenzt ist\, bitten wir um frühzeitige Anmeldung:Anna Thielkes📱 0151 / 46449496 \n\n\n\n🌐 Weitere Informationen & Vorbereitung\n\n\n\nUnter www.bodewigdressage.de können Reiter vorab Informationen zu sich und ihrem Pferd übermitteln\, um eine optimale Vorbereitung auf den Lehrgang zu ermöglichen.
URL:https://www.rv-rhede.de/veranstaltung/dressurlehrgang-bei-bodewigs-2
ATTACH;FMTTYPE=image/png:https://www.rv-rhede.de/wp-content/uploads/2024/10/Screenshot-2024-10-16-103230.png
END:VEVENT
END:VCALENDAR